BEGIN:VCALENDAR
VERSION:2.0
PRODID:-//FDP OV Heiligenhaus - ECPv6.15.20//NONSGML v1.0//EN
CALSCALE:GREGORIAN
METHOD:PUBLISH
X-WR-CALNAME:FDP OV Heiligenhaus
X-ORIGINAL-URL:https://www.fdp-heiligenhaus.de
X-WR-CALDESC:Veranstaltungen für FDP OV Heiligenhaus
REFRESH-INTERVAL;VALUE=DURATION:PT1H
X-Robots-Tag:noindex
X-PUBLISHED-TTL:PT1H
BEGIN:VTIMEZONE
TZID:Europe/Berlin
BEGIN:DAYLIGHT
TZOFFSETFROM:+0100
TZOFFSETTO:+0200
TZNAME:CEST
DTSTART:20250330T010000
END:DAYLIGHT
BEGIN:STANDARD
TZOFFSETFROM:+0200
TZOFFSETTO:+0100
TZNAME:CET
DTSTART:20251026T010000
END:STANDARD
BEGIN:DAYLIGHT
TZOFFSETFROM:+0100
TZOFFSETTO:+0200
TZNAME:CEST
DTSTART:20260329T010000
END:DAYLIGHT
BEGIN:STANDARD
TZOFFSETFROM:+0200
TZOFFSETTO:+0100
TZNAME:CET
DTSTART:20261025T010000
END:STANDARD
BEGIN:DAYLIGHT
TZOFFSETFROM:+0100
TZOFFSETTO:+0200
TZNAME:CEST
DTSTART:20270328T010000
END:DAYLIGHT
BEGIN:STANDARD
TZOFFSETFROM:+0200
TZOFFSETTO:+0100
TZNAME:CET
DTSTART:20271031T010000
END:STANDARD
END:VTIMEZONE
BEGIN:VEVENT
DTSTART;TZID=Europe/Berlin:20260416T190000
DTEND;TZID=Europe/Berlin:20260416T210000
DTSTAMP:20260422T122917
CREATED:20260227T135531Z
LAST-MODIFIED:20260227T135531Z
UID:3015-1776366000-1776373200@www.fdp-heiligenhaus.de
SUMMARY:FDP Vorstand
DESCRIPTION:FDP Vorstandssitzung\nim Club
URL:https://www.fdp-heiligenhaus.de/termin/fdp-vorstand-2/
LOCATION:Der Club Heiligenhaus\, Hülsbecker Str. 16\, Heiligenhaus\, NRW\, 42579\, Deutschland
CATEGORIES:Vorstand
END:VEVENT
BEGIN:VEVENT
DTSTART;TZID=Europe/Berlin:20260413T190000
DTEND;TZID=Europe/Berlin:20260413T210000
DTSTAMP:20260422T122917
CREATED:20260227T135446Z
LAST-MODIFIED:20260227T135446Z
UID:3013-1776106800-1776114000@www.fdp-heiligenhaus.de
SUMMARY:FDP Fraktionssitzung
DESCRIPTION:FDP Fraktionssitzung\nRaum 333 im Rathaus
URL:https://www.fdp-heiligenhaus.de/termin/fdp-fraktionssitzung-10/
LOCATION:Rathaus Raum 333\, Hauptstr. 157\, Heiligenhaus\, NRW\, 42579\, Germany
CATEGORIES:Fraktion
END:VEVENT
BEGIN:VEVENT
DTSTART;TZID=Europe/Berlin:20260404T093000
DTEND;TZID=Europe/Berlin:20260404T110000
DTSTAMP:20260422T122917
CREATED:20260227T135413Z
LAST-MODIFIED:20260227T135413Z
UID:3011-1775295000-1775300400@www.fdp-heiligenhaus.de
SUMMARY:FDP Infostand zu Ostern
DESCRIPTION:FDP Infostand zu Ostern
URL:https://www.fdp-heiligenhaus.de/termin/fdp-infostand-zu-ostern/
CATEGORIES:Allgemeines
END:VEVENT
BEGIN:VEVENT
DTSTART;TZID=Europe/Berlin:20260327T173000
DTEND;TZID=Europe/Berlin:20260327T190000
DTSTAMP:20260422T122917
CREATED:20260201T135416Z
LAST-MODIFIED:20260201T135416Z
UID:2971-1774632600-1774638000@www.fdp-heiligenhaus.de
SUMMARY:FDP Stammtisch
DESCRIPTION:FDP Stammtisch
URL:https://www.fdp-heiligenhaus.de/termin/fdp-stammtisch-2/
CATEGORIES:Allgemeines
END:VEVENT
BEGIN:VEVENT
DTSTART;TZID=Europe/Berlin:20260323T190000
DTEND;TZID=Europe/Berlin:20260323T210000
DTSTAMP:20260422T122917
CREATED:20260201T135329Z
LAST-MODIFIED:20260201T135329Z
UID:2969-1774292400-1774299600@www.fdp-heiligenhaus.de
SUMMARY:FDP Fraktionssitzung
DESCRIPTION:FDP Fraktionssitzung\nRaum 333 im Rathaus
URL:https://www.fdp-heiligenhaus.de/termin/fdp-fraktionssitzung-9/
LOCATION:Rathaus Raum 333\, Hauptstr. 157\, Heiligenhaus\, NRW\, 42579\, Germany
CATEGORIES:Fraktion
END:VEVENT
BEGIN:VEVENT
DTSTART;TZID=Europe/Berlin:20260316T190000
DTEND;TZID=Europe/Berlin:20260316T210000
DTSTAMP:20260422T122917
CREATED:20260201T135256Z
LAST-MODIFIED:20260201T135256Z
UID:2967-1773687600-1773694800@www.fdp-heiligenhaus.de
SUMMARY:FDP Fraktionssitzung
DESCRIPTION:FDP Fraktionssitzung\nRaum 333 im Rathaus
URL:https://www.fdp-heiligenhaus.de/termin/fdp-fraktionssitzung-8/
LOCATION:Rathaus Raum 333\, Hauptstr. 157\, Heiligenhaus\, NRW\, 42579\, Germany
CATEGORIES:Fraktion
END:VEVENT
BEGIN:VEVENT
DTSTART;TZID=Europe/Berlin:20260309T190000
DTEND;TZID=Europe/Berlin:20260309T210000
DTSTAMP:20260422T122917
CREATED:20260201T135229Z
LAST-MODIFIED:20260201T135229Z
UID:2964-1773082800-1773090000@www.fdp-heiligenhaus.de
SUMMARY:FDP Fraktionssitzung
DESCRIPTION:FDP Fraktionssitzung\nRaum 333 im Rathaus
URL:https://www.fdp-heiligenhaus.de/termin/fdp-fraktionssitzung-7/
LOCATION:Rathaus Raum 333\, Hauptstr. 157\, Heiligenhaus\, NRW\, 42579\, Germany
CATEGORIES:Fraktion
END:VEVENT
BEGIN:VEVENT
DTSTART;TZID=Europe/Berlin:20260305T190000
DTEND;TZID=Europe/Berlin:20260305T210000
DTSTAMP:20260422T122917
CREATED:20260201T135203Z
LAST-MODIFIED:20260201T135203Z
UID:2963-1772737200-1772744400@www.fdp-heiligenhaus.de
SUMMARY:FDP Vorstand
DESCRIPTION:FDP Vorstandssitzung\nim Club
URL:https://www.fdp-heiligenhaus.de/termin/fdp-vorstand/
LOCATION:Der Club Heiligenhaus\, Hülsbecker Str. 16\, Heiligenhaus\, NRW\, 42579\, Deutschland
CATEGORIES:Vorstand
END:VEVENT
BEGIN:VEVENT
DTSTART;TZID=Europe/Berlin:20260302T190000
DTEND;TZID=Europe/Berlin:20260302T210000
DTSTAMP:20260422T122917
CREATED:20260201T135024Z
LAST-MODIFIED:20260201T135024Z
UID:2961-1772478000-1772485200@www.fdp-heiligenhaus.de
SUMMARY:FDP Fraktionssitzung
DESCRIPTION:FDP Fraktionssitzung\nRaum 333 im Rathaus
URL:https://www.fdp-heiligenhaus.de/termin/fdp-fraktionssitzung-6/
LOCATION:Rathaus Raum 333\, Hauptstr. 157\, Heiligenhaus\, NRW\, 42579\, Germany
CATEGORIES:Fraktion
END:VEVENT
BEGIN:VEVENT
DTSTART;TZID=Europe/Berlin:20260227T173000
DTEND;TZID=Europe/Berlin:20260227T190000
DTSTAMP:20260422T122917
CREATED:20260119T092621Z
LAST-MODIFIED:20260119T092621Z
UID:2889-1772213400-1772218800@www.fdp-heiligenhaus.de
SUMMARY:FDP Stammtisch
DESCRIPTION:FDP Stammtisch
URL:https://www.fdp-heiligenhaus.de/termin/fdp-stammtisch/
CATEGORIES:Allgemeines
END:VEVENT
BEGIN:VEVENT
DTSTART;TZID=Europe/Berlin:20260221T090000
DTEND;TZID=Europe/Berlin:20260221T140000
DTSTAMP:20260422T122917
CREATED:20260119T092530Z
LAST-MODIFIED:20260119T092530Z
UID:2887-1771664400-1771682400@www.fdp-heiligenhaus.de
SUMMARY:FDP Haushaltsberatungen
DESCRIPTION:FDP-Haushaltsberatungen
URL:https://www.fdp-heiligenhaus.de/termin/fdp-haushaltsberatungen-2/
CATEGORIES:Fraktion
END:VEVENT
BEGIN:VEVENT
DTSTART;TZID=Europe/Berlin:20260220T160000
DTEND;TZID=Europe/Berlin:20260220T210000
DTSTAMP:20260422T122917
CREATED:20260119T092503Z
LAST-MODIFIED:20260119T092503Z
UID:2885-1771603200-1771621200@www.fdp-heiligenhaus.de
SUMMARY:FDP Haushaltsberatungen
DESCRIPTION:FDP-Haushaltsberatungen
URL:https://www.fdp-heiligenhaus.de/termin/fdp-haushaltsberatungen/
CATEGORIES:Fraktion
END:VEVENT
BEGIN:VEVENT
DTSTART;TZID=Europe/Berlin:20260216T190000
DTEND;TZID=Europe/Berlin:20260216T210000
DTSTAMP:20260422T122917
CREATED:20260119T092349Z
LAST-MODIFIED:20260119T092349Z
UID:2883-1771268400-1771275600@www.fdp-heiligenhaus.de
SUMMARY:FDP Fraktionssitzung
DESCRIPTION:FDP Fraktionssitzung\nRaum 333 im Rathaus
URL:https://www.fdp-heiligenhaus.de/termin/fdp-fraktionssitzung-5/
LOCATION:Rathaus Raum 333\, Hauptstr. 157\, Heiligenhaus\, NRW\, 42579\, Germany
CATEGORIES:Fraktion
END:VEVENT
BEGIN:VEVENT
DTSTART;TZID=Europe/Berlin:20260212T190000
DTEND;TZID=Europe/Berlin:20260212T210000
DTSTAMP:20260422T122917
CREATED:20260119T092317Z
LAST-MODIFIED:20260119T092317Z
UID:2881-1770922800-1770930000@www.fdp-heiligenhaus.de
SUMMARY:FDP Ortsparteitag
DESCRIPTION:FDP Ortsparteitag\nim Club
URL:https://www.fdp-heiligenhaus.de/termin/fdp-ortsparteitag/
LOCATION:Der Club Heiligenhaus\, Hülsbecker Str. 16\, Heiligenhaus\, NRW\, 42579\, Deutschland
CATEGORIES:Ortsparteitag
END:VEVENT
BEGIN:VEVENT
DTSTART;TZID=Europe/Berlin:20260209T190000
DTEND;TZID=Europe/Berlin:20260209T210000
DTSTAMP:20260422T122917
CREATED:20260119T092206Z
LAST-MODIFIED:20260119T092206Z
UID:2879-1770663600-1770670800@www.fdp-heiligenhaus.de
SUMMARY:FDP Fraktionssitzung
DESCRIPTION:FDP Fraktionssitzung\nRaum 333 im Rathaus
URL:https://www.fdp-heiligenhaus.de/termin/fdp-fraktionssitzung-4/
LOCATION:Rathaus Raum 333\, Hauptstr. 157\, Heiligenhaus\, NRW\, 42579\, Germany
CATEGORIES:Fraktion
END:VEVENT
BEGIN:VEVENT
DTSTART;TZID=Europe/Berlin:20260202T190000
DTEND;TZID=Europe/Berlin:20260202T210000
DTSTAMP:20260422T122917
CREATED:20260119T092133Z
LAST-MODIFIED:20260119T092133Z
UID:2876-1770058800-1770066000@www.fdp-heiligenhaus.de
SUMMARY:FDP Fraktionssitzung
DESCRIPTION:FDP Fraktionssitzung\nRaum 333 im Rathaus
URL:https://www.fdp-heiligenhaus.de/termin/fdp-fraktionssitzung-3/
LOCATION:Rathaus Raum 333\, Hauptstr. 157\, Heiligenhaus\, NRW\, 42579\, Germany
CATEGORIES:Fraktion
END:VEVENT
BEGIN:VEVENT
DTSTART;TZID=Europe/Berlin:20260126T190000
DTEND;TZID=Europe/Berlin:20260126T210000
DTSTAMP:20260422T122917
CREATED:20260119T092106Z
LAST-MODIFIED:20260119T092106Z
UID:2875-1769454000-1769461200@www.fdp-heiligenhaus.de
SUMMARY:FDP Fraktionssitzung
DESCRIPTION:FDP Fraktionssitzung\nRaum 333 im Rathaus
URL:https://www.fdp-heiligenhaus.de/termin/fdp-fraktionssitzung-2/
LOCATION:Rathaus Raum 333\, Hauptstr. 157\, Heiligenhaus\, NRW\, 42579\, Germany
CATEGORIES:Fraktion
END:VEVENT
END:VCALENDAR